View In:
ArcGIS JavaScript
ArcGIS Online Map Viewer
ArcGIS Earth
Service Description: IMAGENS/area_urbana_sao_bento_sul
Name: IMAGENS/area_urbana_sao_bento_sul
Description:
Single Fused Map Cache: false
Extent:
XMin: -5507885.457208628
YMin: -3038430.300574281
XMax: -5487507.935430234
YMax: -3019679.3643862163
Spatial Reference: 102100
(3857)
Initial Extent:
XMin: -5507885.457208628
YMin: -3038430.300574281
XMax: -5487507.935430234
YMax: -3019679.3643862163
Spatial Reference: 102100
(3857)
Full Extent:
XMin: -5507885.457208628
YMin: -3038430.300574281
XMax: -5487507.935430234
YMax: -3019679.3643862163
Spatial Reference: 102100
(3857)
Pixel Size X: 0.11898310081741369
Pixel Size Y: 0.10753903436526184
Band Count: 3
Pixel Type: U8
RasterFunction Infos: {"rasterFunctionInfos": [{
"name": "None",
"description": "",
"help": ""
}]}
Mensuration Capabilities: Basic
Inspection Capabilities:
Has Histograms: true
Has Colormap: false
Has Multi Dimensions : false
Rendering Rule:
Min Scale: 0
Max Scale: 0
Resampling: false
Copyright Text: Prefeitura de São Bento do Sul
Service Data Type: esriImageServiceDataTypeRGB
Min Values: 0, 0, 0
Max Values: 255, 255, 255
Mean Values: 60.538696355054874, 65.04182376965869, 66.32849754586316
Standard Deviation Values: 49.1484071793237, 46.21892822436157, 42.681549084741604
Object ID Field:
Fields:
None
Default Mosaic Method: Center
Allowed Mosaic Methods:
SortField:
SortValue: null
Mosaic Operator: First
Default Compression Quality: 75
Default Resampling Method: Bilinear
Max Record Count: null
Max Image Height: 4100
Max Image Width: 15000
Max Download Image Count: null
Max Mosaic Image Count: null
Allow Raster Function: true
Allow Copy: true
Allow Analysis: true
Allow Compute TiePoints: false
Supports Statistics: false
Supports Advanced Queries: false
Use StandardizedQueries: true
Raster Type Infos:
Name: Raster Dataset
Description: Supports all ArcGIS Raster Datasets
Help:
Has Raster Attribute Table: false
Edit Fields Info: null
Ownership Based AccessControl For Rasters: null
Child Resources:
Info
Histograms
Statistics
Key Properties
Legend
Raster Function Infos
Supported Operations:
Export Image
Identify
Measure
Compute Histograms
Compute Statistics Histograms
Get Samples
Compute Class Statistics
Query Boundary
Compute Pixel Location
Compute Angles
Validate
Project